BEGIN:VCALENDAR
VERSION:2.0
PRODID:-//El Atrio - ECPv5.16.3.1//NONSGML v1.0//EN
CALSCALE:GREGORIAN
METHOD:PUBLISH
X-WR-CALNAME:El Atrio
X-ORIGINAL-URL:https://elatriomadrid.es
X-WR-CALDESC:Events for El Atrio
REFRESH-INTERVAL;VALUE=DURATION:PT1H
X-Robots-Tag:noindex
X-PUBLISHED-TTL:PT1H
BEGIN:VTIMEZONE
TZID:UTC
BEGIN:STANDARD
TZOFFSETFROM:+0000
TZOFFSETTO:+0000
TZNAME:UTC
DTSTART:20210101T000000
END:STANDARD
END:VTIMEZONE
BEGIN:VEVENT
DTSTART;TZID=UTC:20220410T110000
DTEND;TZID=UTC:20220413T150000
DTSTAMP:20260420T161819
CREATED:20220421T203228Z
LAST-MODIFIED:20220421T203421Z
UID:2795-1649588400-1649862000@elatriomadrid.es
SUMMARY:Laboratorio de creación con Sergio Boris
DESCRIPTION:Laboratorio de creación destinado a actorxs\, alumnxs avanzadxs y directorxs/dramaturgxs con experiencia en actuación. \n\n\n\n\nSERGIO BORIS\n\n\n\n\n\n\n\n\nActor\, director\, dramaturgo y docente argentino con amplia proyección internacional. \nSu espectáculo Artaud\, que actualmente está por su sexta temporada en Buenos Aires\, se pudo ver en el Festival de Otoño de Madrid y en el Festival Iberoamericano de Porto (FITEI); Viejo\, solo y puto hizo siete temporadas en Buenos Aires en diferentes teatros y pasó por Temporada Alta\, el Teatro Garonne de Toulouse\, el Festival Cena Río de Janeiro o el Teatro Solís de Montevideo\, junto a otros teatros y festivales; mientras que El síndrome se presentó en el Festival de Aviñón.
URL:https://elatriomadrid.es/event/laboratorio-de-creacion-con-sergio-boris/
CATEGORIES:Cursos
ATTACH;FMTTYPE=image/jpeg:https://elatriomadrid.es/wp-content/webpc-passthru.php?src=https://elatriomadrid.es/wp-content/uploads/2022/04/formacion_sergi.jpg&amp;nocache=1
END:VEVENT
BEGIN:VEVENT
DTSTART;TZID=UTC:20220319T100000
DTEND;TZID=UTC:20220320T140000
DTSTAMP:20260420T161819
CREATED:20220227T201059Z
LAST-MODIFIED:20220227T201825Z
UID:2736-1647684000-1647784800@elatriomadrid.es
SUMMARY:Actuar con la Zaranda
DESCRIPTION:Curso impartido por Enrique Bustos. \nPlazas disponibles muy limitadas. Curso intensivo de dos\nfines de semana destinado a profesionales de las artes\nescénicas y estudiantes de arte dramático con experiencia\nprevia.\nSi estás interesado/a en realizar el curso\, envíanos un mail\ncon tu motivación a: elatrio@elatriomadrid.es\nReserva tu plaza antes del 9 de marzo de 2022. Comunicación\nde seleccionados/as y en lista de espera: 10 de marzo 2022\ndurante el día. \nPara más información sobre coste y proceso de inscripción\ndirigirse al correo elatrio@elatriomadrid.es o al whatsapp:\n655527242\nLugar: El Atrio-Espacio de Creación Teatral c/ Villapalacios\, 16\nBj A. Villaverde Bajo. (metro Villaverde Bajo Cruce – Línea 3)
URL:https://elatriomadrid.es/event/actuar-con-la-zaranda/
ATTACH;FMTTYPE=image/jpeg:https://elatriomadrid.es/wp-content/webpc-passthru.php?src=https://elatriomadrid.es/wp-content/uploads/2022/02/foto-curso-gaspar-y-kike.jpg&amp;nocache=1
END:VEVENT
BEGIN:VEVENT
DTSTART;TZID=UTC:20220312T100000
DTEND;TZID=UTC:20220313T140000
DTSTAMP:20260420T161819
CREATED:20220227T201239Z
LAST-MODIFIED:20220227T201638Z
UID:2738-1647079200-1647180000@elatriomadrid.es
SUMMARY:Actuar con la Zaranda
DESCRIPTION:Curso impartido por Gaspar Campuzano \nPlazas disponibles muy limitadas. Curso intensivo de dos\nfines de semana destinado a profesionales de las artes\nescénicas y estudiantes de arte dramático con experiencia\nprevia.\nSi estás interesado/a en realizar el curso\, envíanos un mail\ncon tu motivación a: elatrio@elatriomadrid.es\nReserva tu plaza antes del 9 de marzo de 2022. Comunicación\nde seleccionados/as y en lista de espera: 10 de marzo 2022\ndurante el día. \nPara más información sobre coste y proceso de inscripción\ndirigirse al correo elatrio@elatriomadrid.es o al whatsapp:\n655527242\nLugar: El Atrio-Espacio de Creación Teatral c/ Villapalacios\, 16\nBj A. Villaverde Bajo. (metro Villaverde Bajo Cruce – Línea 3)
URL:https://elatriomadrid.es/event/actuar-con-la-zaranda-2/
ATTACH;FMTTYPE=image/jpeg:https://elatriomadrid.es/wp-content/webpc-passthru.php?src=https://elatriomadrid.es/wp-content/uploads/2022/02/foto-curso-gaspar-y-kike.jpg&amp;nocache=1
END:VEVENT
BEGIN:VEVENT
DTSTART;TZID=UTC:20220131T100000
DTEND;TZID=UTC:20220206T130000
DTSTAMP:20260420T161819
CREATED:20211205T174839Z
LAST-MODIFIED:20220103T172957Z
UID:2486-1643623200-1644152400@elatriomadrid.es
SUMMARY:El cuerpo como territorio poético
DESCRIPTION:el cuerpo como territorio poético\nimpartido por Carmen Werner e Ingrid Magrinyà\nFechas:  del 31 de enero al 2 de febrero (con Ingrid Magrinyà) y del 4 al 6 de febrero(con Carmen Werner) Horario: de 10 a 13 horas -lunes\, martes y miércoles- y de 10:30 a 13 horas -viernes\, sábado y domingo-.                                                                                                                              Nº sesiones: 6 / Total de horas: 17 \n			\n			\n				\n				\n				\n				\n			\n				\n				\n				\n				\n				\n				\n				\n				\n				\n				\n				En este segundo curso de El Atrio\, orientados al aprendizaje esencial del arte dramático\, seguimos derribando las barreras que se han levantado entre las distintas disciplinas escénicas y que reducen las posibilidades expresivas en ese territorio común que es el cuerpo. Buscamos con este impartido por Carmen Werner e Ingrid Magrinyà alejarnos de la mecánica rutinaria del cuerpo para con-mover: la movilidad del cuerpo para mover la sensibilidad del otro. Al danzar sentimos que el cuerpo está en comunión con el universo\, no es sólo una maquinaria física ni un punto matemático en el espacio\, sino el centro de infinitas percepciones y de infinitas posibilidades de acción. Algo vital para todos los que nos subimos al escenario\, pensar con el cuerpo\, rescatar su poética. \n			\n			\n				\n				\n				\n				\n			\n				\n				\n				\n				\n				\n				\n				\n				\n				\n				\n				Carmen Werner \n(Madrid\, 1953) Estudia ballet y danza contemporánea en Madrid\, Barcelona y Londres. Desde que creara en 1987 su propia compañía\, Provisional Danza\, ha puesto en escena más de 60 coreografías: trabajos de sala (de pequeño y gran formato\, incluida una ópera-danza)\, trabajos de calle\, vídeo-danzas\, un cortometraje\, colaboraciones para otras compañías\, encargos especiales para distintos festivales y teatros\, además de impartir clases y talleres coreográficos. Con sus creaciones ha mostrado su arte por medio mundo. Premio Nacional de Danza 2007. \nContenidos / UN JUEGO INTELIGENTE \nLa danza como cualquier arte viva es un juego\, un juego inteligente\, eso que nadie define como trabajo y realmente    lo es\, pero placentero.  \nLa clase\, inicia con un calentamiento articular – muscular y una propuesta de materiales coreográficos.  \nPara mí lo más importante es modular las calidades en los materiales\, variar dentro de una misma frase\, velocidad\, volumen\, peso\, densidad\, etc…  \nLa segunda parte\, trabajará la manera de poner el material coreográfico al servicio de lo que queremos contar\, es decir\, bailar no sólo es plasmar un movimiento en escena\, sino expresar algo\, sensaciones o relatar una historia\, cada uno tendrá que trabajar con los materiales de la clase y desarrollar los suyos propios para crear una secuencia\, alterar el orden\, cambiar velocidades\, repetir movimientos\, etc… de manera que pueda adaptar el vocabulario coreográfico a su necesidad. \nLa composición es uno de los factores más importantes y casi todo va orientado a ello. \n Ingrid Magrinyà \n(Ibiza\, 1976) Bailarina y coreógrafa contemporánea formada en danza clásica con María de Ávila en Zaragoza. Su andadura profesional es tan amplia como ecléctica\, ha trabajado con coreógrafos como Cesc Gelabert\, Jan Fabre o Elia Lozano; ha impartido cursos y coreografiado para el Ballet Halberstadt\, Ballet de Wursburg\, compañías como D´Click y Sweet-Chilly\, todas en Alemania\, Escuela de Teatro de Zaragoza y largo etc… En los últimos años ha sido dirigida por Paco de la Zaranda con los espectáculos La Extinta Poética y Convertiste mi luto en danza\, escritos por Eusebio Calonge. \nContenidos / CUERPO SENSIBLE \nTanto la danza como el teatro requieren de una presencia escénica; un cuerpo escénico es aquél que se sabe presente\, que se conoce\, que se piensa y se trabaja. Mi propuesta para este taller es trabajar desde ahí\, estar en el cuerpo y trabajar desde él\, ya sea un texto\, una danza o un canto. \nTrabajaremos en una primera parte desde las diferentes técnicas que aúno en mi experiencia para una primera toma de conciencia física y calentar el cuerpo\, de abajo a arriba (suelo\, vertical)\, y de dentro a fuera (desde el hueso hasta la piel).  \nEn una segunda parte jugaremos a crear y generar dinámicas en el espacio  con y desde los otros para poder construir entre todos un pequeño desarrollo coreográfico en el que integremos nuestros cuerpos\, nuestras voces y nuestras presencias. \nPlazas disponibles muy limitadas. \nCurso doble intensivo destinado a profesionales de las artes escénicas: bailarines\, actores\, performers que trabajen desde el cuerpo y/o tengan experiencia previa en teatro-danza. \nSi estás interesado/a en realizar el curso\, envíanos un mail con tu motivación a: elatrio@elatriomadrid.es. Si quieres\, cuéntanos algo sobre ti. Y si tienes alguna pregunta\, no dudes en contactarnos.  \nReserva tu plaza antes del 20 de enero de 2022. El Atrio se pondrá en contacto con las personas que hayan obtenido plaza y con los/as aspirantes incluídos/as en la lista de espera a partir del viernes 21 de enero. Plazas limitadas.  \nLugar: El Atrio-Espacio de Creación Teatral  c/ Villapalacios\, 16 Bj A. Villaverde Bajo. \n(metro Villaverde Bajo Cruce – Línea 3)
URL:https://elatriomadrid.es/event/el-cuerpo-como-territorio-poetico/
LOCATION:El Atrio\, Calle Calle Villapalacios\, 16\,\, Madrid\, 28021\, España
CATEGORIES:Cursos
END:VEVENT
BEGIN:VEVENT
DTSTART;VALUE=DATE:20210908
DTEND;VALUE=DATE:20210919
DTSTAMP:20260420T161819
CREATED:20210824T130908Z
LAST-MODIFIED:20210825T091330Z
UID:2208-1631059200-1632009599@elatriomadrid.es
SUMMARY:Itinerarios a la acción dramática
DESCRIPTION:Itinerarios a la acción dramática\nimpartidos por Eusebio Calonge y Paco de La Zaranda\n			\n			\n				\n				\n				\n				\n			\n				\n				\n				\n				\n				\n				\n				\n				\n				\n				\n				Fechas:  del 8 al 11 de septiembre (con Eusebio Calonge) \ny del 15 al 18 de septiembre (con Paco de La Zaranda) \nHorario: de 10 a 14 horas (de miércoles a sábado) \nTotal de horas: 32 \nEn el curso se trabajará con: \n			\n			\n				\n				\n				\n				\n			\n				\n				\n				\n				\n				\n				\n				\n				\n				\n				\n				   Eusebio Calonge \n\nAperturas del texto\nAproximaciones a las palabras desde lo orgánico\nLa dramaturgia como generadora de acciones plásticas\nTentativas de un lenguaje teatral\n\n			\n			\n				\n				\n				\n				\n				\n				\n				\n				\n				\n				Paco de La Zaranda \n\nProceso del personaje desde la energía primaria\nEl actor y el otro\nObjetos y energía emergente del actor\nConcentración y atmósfera escénica\n\n			\n			\n				\n				\n				\n				\n			\n				\n				\n				\n				\n				\n				\n				\n				\n				\n				\n				Plazas disponibles muy limitadas\n  Curso impartido sobre el escenario \nProceso de selección: “No nos interesa qué has hecho (CV) sino qué quieres hacer. \n Escríbenos unas líneas sobre esto para saber si te podemos ser de ayuda\, y una fotografía o vídeo.” \nPlazo de solicitudes abierto hasta el 2 de septiembre de 2021 \nEl Atrio se pondrá en contacto con las personas seleccionadas y con los aspirantes \nincluidos en la lista de espera a partir del viernes 3 de septiembre (pm). \nLugar: EL ATRIO Espacio de Creación Teatral \nC/ Villapalacios\, 16 Bj A. Villaverde Bajo. (Metro Villaverde Bajo Cruce – L3) \nAmplía información en elatrio@elatriomadrid.es\n 
URL:https://elatriomadrid.es/event/itinerarios-a-la-accion-dramatica/
LOCATION:El Atrio\, Calle Calle Villapalacios\, 16\,\, Madrid\, 28021\, España
CATEGORIES:Cursos
ATTACH;FMTTYPE=image/jpeg:https://elatriomadrid.es/wp-content/webpc-passthru.php?src=https://elatriomadrid.es/wp-content/uploads/2021/08/itinerarios_a_la_accion_gramatica.jpg&amp;nocache=1
ORGANIZER;CN="El%20Atrio":MAILTO:elatrio@elatriomadrid.es
END:VEVENT
END:VCALENDAR